BEGIN:VCALENDAR
VERSION:2.0
PRODID:-//SENT Inc - ECPv6.15.20//NONSGML v1.0//EN
CALSCALE:GREGORIAN
METHOD:PUBLISH
X-WR-CALNAME:SENT Inc
X-ORIGINAL-URL:https://senttopeka.com
X-WR-CALDESC:Events for SENT Inc
REFRESH-INTERVAL;VALUE=DURATION:PT1H
X-Robots-Tag:noindex
X-PUBLISHED-TTL:PT1H
BEGIN:VTIMEZONE
TZID:UTC
BEGIN:STANDARD
TZOFFSETFROM:+0000
TZOFFSETTO:+0000
TZNAME:UTC
DTSTART:20220101T000000
END:STANDARD
END:VTIMEZONE
BEGIN:VEVENT
DTSTART;TZID=UTC:20231209T090000
DTEND;TZID=UTC:20231209T110000
DTSTAMP:20260425T205809
CREATED:20221021T160057Z
LAST-MODIFIED:20230105T190829Z
UID:1944-1702112400-1702119600@senttopeka.com
SUMMARY:Hi-Crest Market
DESCRIPTION:  \n🗓️ Don’t miss the Hi-Crest Market on the second Saturday of each month! Join us from 9:00 am-11:00 at 455 SE Golf Park Blvd. \n🥕🍅🥒 FOOD BUNDLES 🍖🍗🥩\nPre-bundled packages of Meat and produce will be available for $30 each – Thanks to Leonard’s Meat and Topeka Grower’s Group! \nVENDORS & COMMUNITY RESOURCES\n✅ SENT Prep Academy Info Table\n✅ More vendors TBD! \nABOUT THE HI-CREST MARKET\n➡️ The Hi-Crest Market is every month on the 2nd Saturday\n➡️ Vendor fee is $15 // Community Resource Table = Free\n➡️ Use your SNAP (Supplemental Nutrition Assistance) benefits EBT Card to purchase food bundles.\n➡️ Questions? 📲 785.783.2535 or 📩 info@senttopeka.com
URL:https://senttopeka.com/event/hi-crest-market-37/
CATEGORIES:Community Wellness
END:VEVENT
BEGIN:VEVENT
DTSTART;TZID=UTC:20231111T090000
DTEND;TZID=UTC:20231111T110000
DTSTAMP:20260425T205809
CREATED:20221021T160022Z
LAST-MODIFIED:20230105T190757Z
UID:1941-1699693200-1699700400@senttopeka.com
SUMMARY:Hi-Crest Market
DESCRIPTION:  \n🗓️ Don’t miss the Hi-Crest Market on the second Saturday of each month! Join us from 9:00 am-11:00 at 455 SE Golf Park Blvd. \n🥕🍅🥒 FOOD BUNDLES 🍖🍗🥩\nPre-bundled packages of Meat and produce will be available for $30 each – Thanks to Leonard’s Meat and Topeka Grower’s Group! \nVENDORS & COMMUNITY RESOURCES\n✅ SENT Prep Academy Info Table\n✅ More vendors TBD! \nABOUT THE HI-CREST MARKET\n➡️ The Hi-Crest Market is every month on the 2nd Saturday\n➡️ Vendor fee is $15 // Community Resource Table = Free\n➡️ Use your SNAP (Supplemental Nutrition Assistance) benefits EBT Card to purchase food bundles.\n➡️ Questions? 📲 785.783.2535 or 📩 info@senttopeka.com
URL:https://senttopeka.com/event/hi-crest-market-36/
CATEGORIES:Community Wellness
END:VEVENT
BEGIN:VEVENT
DTSTART;TZID=UTC:20231014T090000
DTEND;TZID=UTC:20231014T110000
DTSTAMP:20260425T205809
CREATED:20221021T155812Z
LAST-MODIFIED:20230105T190717Z
UID:1938-1697274000-1697281200@senttopeka.com
SUMMARY:Hi-Crest Market
DESCRIPTION:🗓️ Don’t miss the Hi-Crest Market on the second Saturday of each month! Join us from 9:00 am-11:00 at 455 SE Golf Park Blvd. \n🥕🍅🥒 FOOD BUNDLES 🍖🍗🥩\nPre-bundled packages of Meat and produce will be available for $30 each – Thanks to Leonard’s Meat and Topeka Grower’s Group! \nVENDORS & COMMUNITY RESOURCES\n✅ SENT Prep Academy Info Table\n✅ More vendors TBD! \nABOUT THE HI-CREST MARKET\n➡️ The Hi-Crest Market is every month on the 2nd Saturday\n➡️ Vendor fee is $15 // Community Resource Table = Free\n➡️ Use your SNAP (Supplemental Nutrition Assistance) benefits EBT Card to purchase food bundles.\n➡️ Questions? 📲 785.783.2535 or 📩 info@senttopeka.com
URL:https://senttopeka.com/event/hi-crest-market-35/
CATEGORIES:Community Wellness
END:VEVENT
BEGIN:VEVENT
DTSTART;TZID=UTC:20230909T090000
DTEND;TZID=UTC:20230909T110000
DTSTAMP:20260425T205809
CREATED:20221021T155720Z
LAST-MODIFIED:20230105T190625Z
UID:1935-1694250000-1694257200@senttopeka.com
SUMMARY:Hi-Crest Market
DESCRIPTION:  \n🗓️ Don’t miss the Hi-Crest Market on the second Saturday of each month! Join us from 9:00 am-11:00 at 455 SE Golf Park Blvd. \n🥕🍅🥒 FOOD BUNDLES 🍖🍗🥩\nPre-bundled packages of Meat and produce will be available for $30 each – Thanks to Leonard’s Meat and Topeka Grower’s Group! \nVENDORS & COMMUNITY RESOURCES\n✅ SENT Prep Academy Info Table\n✅ More vendors TBD! \nABOUT THE HI-CREST MARKET\n➡️ The Hi-Crest Market is every month on the 2nd Saturday\n➡️ Vendor fee is $15 // Community Resource Table = Free\n➡️ Use your SNAP (Supplemental Nutrition Assistance) benefits EBT Card to purchase food bundles.\n➡️ Questions? 📲 785.783.2535 or 📩 info@senttopeka.com
URL:https://senttopeka.com/event/hi-crest-market-34/
CATEGORIES:Community Wellness
END:VEVENT
BEGIN:VEVENT
DTSTART;TZID=UTC:20230812T090000
DTEND;TZID=UTC:20230812T110000
DTSTAMP:20260425T205809
CREATED:20221021T155640Z
LAST-MODIFIED:20230105T190546Z
UID:1932-1691830800-1691838000@senttopeka.com
SUMMARY:Hi-Crest Market
DESCRIPTION:🗓️ Don’t miss the Hi-Crest Market on the second Saturday of each month! Join us from 9:00 am-11:00 at 455 SE Golf Park Blvd. \n🥕🍅🥒 FOOD BUNDLES 🍖🍗🥩\nPre-bundled packages of Meat and produce will be available for $30 each – Thanks to Leonard’s Meat and Topeka Grower’s Group! \nVENDORS & COMMUNITY RESOURCES\n✅ SENT Prep Academy Info Table\n✅ More vendors TBD! \nABOUT THE HI-CREST MARKET\n➡️ The Hi-Crest Market is every month on the 2nd Saturday\n➡️ Vendor fee is $15 // Community Resource Table = Free\n➡️ Use your SNAP (Supplemental Nutrition Assistance) benefits EBT Card to purchase food bundles.\n➡️ Questions? 📲 785.783.2535 or 📩 info@senttopeka.com
URL:https://senttopeka.com/event/hi-crest-market-33/
CATEGORIES:Community Wellness
END:VEVENT
BEGIN:VEVENT
DTSTART;TZID=UTC:20230708T090000
DTEND;TZID=UTC:20230708T110000
DTSTAMP:20260425T205809
CREATED:20221021T155552Z
LAST-MODIFIED:20230105T190515Z
UID:1929-1688806800-1688814000@senttopeka.com
SUMMARY:Hi-Crest Market
DESCRIPTION:🗓️ Don’t miss the Hi-Crest Market on the second Saturday of each month! Join us from 9:00 am-11:00 at 455 SE Golf Park Blvd. \n🥕🍅🥒 FOOD BUNDLES 🍖🍗🥩\nPre-bundled packages of Meat and produce will be available for $30 each – Thanks to Leonard’s Meat and Topeka Grower’s Group! \nVENDORS & COMMUNITY RESOURCES\n✅ SENT Prep Academy Info Table\n✅ More vendors TBD! \nABOUT THE HI-CREST MARKET\n➡️ The Hi-Crest Market is every month on the 2nd Saturday\n➡️ Vendor fee is $15 // Community Resource Table = Free\n➡️ Use your SNAP (Supplemental Nutrition Assistance) benefits EBT Card to purchase food bundles.\n➡️ Questions? 📲 785.783.2535 or 📩 info@senttopeka.com
URL:https://senttopeka.com/event/hi-crest-market-32/
CATEGORIES:Community Wellness
END:VEVENT
BEGIN:VEVENT
DTSTART;TZID=UTC:20230610T090000
DTEND;TZID=UTC:20230610T110000
DTSTAMP:20260425T205809
CREATED:20221021T155508Z
LAST-MODIFIED:20230105T190500Z
UID:1926-1686387600-1686394800@senttopeka.com
SUMMARY:Hi-Crest Market
DESCRIPTION:  \n🗓️ Don’t miss the Hi-Crest Market on the second Saturday of each month! Join us from 9:00 am-11:00 at 455 SE Golf Park Blvd. \n🥕🍅🥒 FOOD BUNDLES 🍖🍗🥩\nPre-bundled packages of Meat and produce will be available for $30 each – Thanks to Leonard’s Meat and Topeka Grower’s Group! \nVENDORS & COMMUNITY RESOURCES\n✅ SENT Prep Academy Info Table\n✅ More vendors TBD! \nABOUT THE HI-CREST MARKET\n➡️ The Hi-Crest Market is every month on the 2nd Saturday\n➡️ Vendor fee is $15 // Community Resource Table = Free\n➡️ Use your SNAP (Supplemental Nutrition Assistance) benefits EBT Card to purchase food bundles.\n➡️ Questions? 📲 785.783.2535 or 📩 info@senttopeka.com
URL:https://senttopeka.com/event/hi-crest-market-31/
CATEGORIES:Community Wellness
END:VEVENT
BEGIN:VEVENT
DTSTART;TZID=UTC:20230506T090000
DTEND;TZID=UTC:20230506T110000
DTSTAMP:20260425T205809
CREATED:20221021T155425Z
LAST-MODIFIED:20230105T190445Z
UID:1923-1683363600-1683370800@senttopeka.com
SUMMARY:Hi-Crest Market
DESCRIPTION:  \n🗓️ Don’t miss the Hi-Crest Market on the second Saturday of each month! Join us from 9:00 am-11:00 at 455 SE Golf Park Blvd. \n🥕🍅🥒 FOOD BUNDLES 🍖🍗🥩\nPre-bundled packages of Meat and produce will be available for $30 each – Thanks to Leonard’s Meat and Topeka Grower’s Group! \nVENDORS & COMMUNITY RESOURCES\n✅ SENT Prep Academy Info Table\n✅ More vendors TBD! \nABOUT THE HI-CREST MARKET\n➡️ The Hi-Crest Market is every month on the 2nd Saturday\n➡️ Vendor fee is $15 // Community Resource Table = Free\n➡️ Use your SNAP (Supplemental Nutrition Assistance) benefits EBT Card to purchase food bundles.\n➡️ Questions? 📲 785.783.2535 or 📩 info@senttopeka.com
URL:https://senttopeka.com/event/hi-crest-market-30/
CATEGORIES:Community Wellness
END:VEVENT
BEGIN:VEVENT
DTSTART;TZID=UTC:20230408T090000
DTEND;TZID=UTC:20230408T110000
DTSTAMP:20260425T205809
CREATED:20221021T155325Z
LAST-MODIFIED:20230105T190430Z
UID:1920-1680944400-1680951600@senttopeka.com
SUMMARY:Hi-Crest Market
DESCRIPTION:🗓️ Don’t miss the Hi-Crest Market on the second Saturday of each month! Join us from 9:00 am-11:00 at 455 SE Golf Park Blvd. \n🥕🍅🥒 FOOD BUNDLES 🍖🍗🥩\nPre-bundled packages of Meat and produce will be available for $30 each – Thanks to Leonard’s Meat and Topeka Grower’s Group! \nVENDORS & COMMUNITY RESOURCES\n✅ SENT Prep Academy Info Table\n✅ More vendors TBD! \nABOUT THE HI-CREST MARKET\n➡️ The Hi-Crest Market is every month on the 2nd Saturday\n➡️ Vendor fee is $15 // Community Resource Table = Free\n➡️ Use your SNAP (Supplemental Nutrition Assistance) benefits EBT Card to purchase food bundles.\n➡️ Questions? 📲 785.783.2535 or 📩 info@senttopeka.com
URL:https://senttopeka.com/event/hi-crest-market-29/
CATEGORIES:Community Wellness
END:VEVENT
BEGIN:VEVENT
DTSTART;TZID=UTC:20230311T090000
DTEND;TZID=UTC:20230311T110000
DTSTAMP:20260425T205809
CREATED:20221021T155240Z
LAST-MODIFIED:20230105T190414Z
UID:1917-1678525200-1678532400@senttopeka.com
SUMMARY:Hi-Crest Market
DESCRIPTION:  \n🗓️ Don’t miss the Hi-Crest Market on the second Saturday of each month! Join us from 9:00 am-11:00 at 455 SE Golf Park Blvd. \n🥕🍅🥒 FOOD BUNDLES 🍖🍗🥩\nPre-bundled packages of Meat and produce will be available for $30 each – Thanks to Leonard’s Meat and Topeka Grower’s Group! \nVENDORS & COMMUNITY RESOURCES\n✅ SENT Prep Academy Info Table\n✅ More vendors TBD! \nABOUT THE HI-CREST MARKET\n➡️ The Hi-Crest Market is every month on the 2nd Saturday\n➡️ Vendor fee is $15 // Community Resource Table = Free\n➡️ Use your SNAP (Supplemental Nutrition Assistance) benefits EBT Card to purchase food bundles.\n➡️ Questions? 📲 785.783.2535 or 📩 info@senttopeka.com
URL:https://senttopeka.com/event/hi-crest-market-28/
CATEGORIES:Community Wellness
END:VEVENT
BEGIN:VEVENT
DTSTART;TZID=UTC:20230211T090000
DTEND;TZID=UTC:20230211T110000
DTSTAMP:20260425T205809
CREATED:20221021T155150Z
LAST-MODIFIED:20230105T185855Z
UID:1914-1676106000-1676113200@senttopeka.com
SUMMARY:Hi-Crest Market
DESCRIPTION:  \n🗓️ Don’t miss the Hi-Crest Market on the second Saturday of each month! Join us from 9:00 am-11:00 at 455 SE Golf Park Blvd\, indoors. \n🥕🍅🥒 FOOD BUNDLES 🍖🍗🥩\nPre-bundled packages of Meat and produce will be available for $30 each – Thanks to Leonard’s Meat and Topeka Grower’s Group! \nVENDORS & COMMUNITY RESOURCES\n✅ SENT Prep Academy Info Table\n✅ More vendors TBD! \nABOUT THE HI-CREST MARKET\n➡️ The Hi-Crest Market is every month on the 2nd Saturday\n➡️ Vendor fee is $15 // Community Resource Table = Free\n➡️ Use your SNAP (Supplemental Nutrition Assistance) benefits EBT Card to purchase food bundles.\n➡️ Questions? 📲 785.783.2535 or 📩 info@senttopeka.com
URL:https://senttopeka.com/event/hi-crest-market-27/
CATEGORIES:Community Wellness
END:VEVENT
BEGIN:VEVENT
DTSTART;TZID=UTC:20230114T090000
DTEND;TZID=UTC:20230114T110000
DTSTAMP:20260425T205809
CREATED:20221021T155112Z
LAST-MODIFIED:20230105T185712Z
UID:1911-1673686800-1673694000@senttopeka.com
SUMMARY:Hi-Crest Market
DESCRIPTION:🗓️ Don’t miss the Hi-Crest Market on the second Saturday of each month! Join us from 9:00 am-11:00 at 455 SE Golf Park Blvd\, indoors. \n🥕🍅🥒 FOOD BUNDLES 🍖🍗🥩\nPre-bundled packages of Meat and produce will be available for $30 each – Thanks to Leonard’s Meat and Topeka Grower’s Group! \nVENDORS & COMMUNITY RESOURCES\n✅ SENT Prep Academy Info Table\n✅ More vendors TBD! \nABOUT THE HI-CREST MARKET\n➡️ The Hi-Crest Market is every month on the 2nd Saturday\n➡️ Vendor fee is $15 // Community Resource Table = Free\n➡️ Use your SNAP (Supplemental Nutrition Assistance) benefits EBT Card to purchase food bundles.\n➡️ Questions? 📲 785.783.2535 or 📩 info@senttopeka.com
URL:https://senttopeka.com/event/hi-crest-market-26/
CATEGORIES:Community Wellness
END:VEVENT
END:VCALENDAR