BEGIN:VCALENDAR
VERSION:2.0
PRODID:-//SENT Inc - ECPv6.15.20//NONSGML v1.0//EN
CALSCALE:GREGORIAN
METHOD:PUBLISH
X-ORIGINAL-URL:https://senttopeka.com
X-WR-CALDESC:Events for SENT Inc
REFRESH-INTERVAL;VALUE=DURATION:PT1H
X-Robots-Tag:noindex
X-PUBLISHED-TTL:PT1H
BEGIN:VTIMEZONE
TZID:UTC
BEGIN:STANDARD
TZOFFSETFROM:+0000
TZOFFSETTO:+0000
TZNAME:UTC
DTSTART:20190101T000000
END:STANDARD
END:VTIMEZONE
BEGIN:VEVENT
DTSTART;TZID=UTC:20200609T170000
DTEND;TZID=UTC:20200609T190000
DTSTAMP:20260423T180718
CREATED:20200605T171645Z
LAST-MODIFIED:20200605T171645Z
UID:1167-1591722000-1591729200@senttopeka.com
SUMMARY:Wendy's For SENT
DESCRIPTION:We are having a fundraiser at Wendy’s and we need your support! Come eat some delicious hamburgers and bring your friends. \nWendy’s will donate 10% of dine-in and drive-through sales from 5-7PM \n 
URL:https://senttopeka.com/event/wendys-for-sent/
LOCATION:Wendy’s\, 3250 SW Topeka Blvd.\, Topeka\, KS\, 66611\, United States
CATEGORIES:Fundraisers
ORGANIZER;CN="SENT%2C Inc":MAILTO:info@senttopeka.com
END:VEVENT
BEGIN:VEVENT
DTSTART;VALUE=DATE:20200608
DTEND;VALUE=DATE:20200613
DTSTAMP:20260423T180718
CREATED:20200605T171028Z
LAST-MODIFIED:20200605T171028Z
UID:1162-1591574400-1592006399@senttopeka.com
SUMMARY:Sweet Dreams - Father's Day
DESCRIPTION:We have a SWEET vision for SENT\, but our Vision requires provision! Please join SENT in our efforts to change the narrative of Hi-Crest with a sweet treat for the favorite father figure in your life! \n  \nImportant Details \nCost: $20/dozen \nDeadline: June 12\, 2020 \nPick-up: 6/20 at Avondale East Building (455 SE Golf Park Blvd.) \nfrom 10am-12pm (please use front entrance) \nORDER HERE \nQuestions? \nPlease email info@senttopeka.com or call 785-783-2535. \n 
URL:https://senttopeka.com/event/sweet-dreams-fathers-day/
CATEGORIES:Fundraisers
ATTACH;FMTTYPE=image/jpeg:https://senttopeka.com/wp-content/uploads/2020/06/Photo-Apr-30-1-28-59-AM-scaled.jpg
ORGANIZER;CN="SENT%2C Inc":MAILTO:info@senttopeka.com
END:VEVENT
END:VCALENDAR