BEGIN:VCALENDAR
VERSION:2.0
PRODID:-//SENT Inc - ECPv6.15.20//NONSGML v1.0//EN
CALSCALE:GREGORIAN
METHOD:PUBLISH
X-WR-CALNAME:SENT Inc
X-ORIGINAL-URL:https://senttopeka.com
X-WR-CALDESC:Events for SENT Inc
REFRESH-INTERVAL;VALUE=DURATION:PT1H
X-Robots-Tag:noindex
X-PUBLISHED-TTL:PT1H
BEGIN:VTIMEZONE
TZID:UTC
BEGIN:STANDARD
TZOFFSETFROM:+0000
TZOFFSETTO:+0000
TZNAME:UTC
DTSTART:20190101T000000
END:STANDARD
END:VTIMEZONE
BEGIN:VEVENT
DTSTART;TZID=UTC:20201114T090000
DTEND;TZID=UTC:20201114T110000
DTSTAMP:20260423T132841
CREATED:20201016T203312Z
LAST-MODIFIED:20201016T203312Z
UID:1346-1605344400-1605351600@senttopeka.com
SUMMARY:Hi-Crest Market
DESCRIPTION:Please join us from 9:00am-11:00am at 455 SE Golf Park Blvd. Produce bags will be available for $5 and $10 you can fill up the bag with your favorite produce! Available will also be Leonard’s Meat bundles for $10 and Cheese \nbundles for $5. There will be additional vendors available with other merchandise that can be purchased separately.  Questions please call 785-783-2535 or email at info@senttopeka.com
URL:https://senttopeka.com/event/hi-crest-market-5/
END:VEVENT
BEGIN:VEVENT
DTSTART;TZID=UTC:20201010T090000
DTEND;TZID=UTC:20201010T110000
DTSTAMP:20260423T132841
CREATED:20200826T153836Z
LAST-MODIFIED:20200826T153836Z
UID:1302-1602320400-1602327600@senttopeka.com
SUMMARY:Hi-Crest Market
DESCRIPTION:Please join us from 9:00am-11:00am at 455 SE Golf Park Blvd. (on the playground). Produce bags will be available for $5 and $10 you can fill up the bag with your favorite produce! There will be additional vendors available with other merchandise that can be purchased separately.  Questions please call 785-783-2535 or email at info@senttopeka.com
URL:https://senttopeka.com/event/hi-crest-market-4/
LOCATION:Community Resource Council\, 455 SE Golf Park Blvd. (Office 121)\, Topeka\, KS\, 66605
END:VEVENT
BEGIN:VEVENT
DTSTART;TZID=UTC:20201001T100000
DTEND;TZID=UTC:20201001T140000
DTSTAMP:20260423T132841
CREATED:20200917T050747Z
LAST-MODIFIED:20200917T050747Z
UID:1338-1601546400-1601560800@senttopeka.com
SUMMARY:The Learning Loft
DESCRIPTION:Every Tuesday and Thursday from 10:00 am- 2:00 pm SENT and Fellowship Hi-Crest are providing space for families and students to use the internet in our building (Room 105 and 107). Do you need to login for a class\, upload homework\, research\, finish an application? Bring your laptop\, tablet\, or phone and connect to our FREE Wifi. Masks will be required\, and the rooms are equipped for social distancing.
URL:https://senttopeka.com/event/the-learning-loft-4/
LOCATION:Community Resource Council\, 455 SE Golf Park Blvd. (Office 121)\, Topeka\, KS\, 66605
END:VEVENT
BEGIN:VEVENT
DTSTART;TZID=UTC:20200929T100000
DTEND;TZID=UTC:20200929T140000
DTSTAMP:20260423T132841
CREATED:20200917T050645Z
LAST-MODIFIED:20200917T050653Z
UID:1335-1601373600-1601388000@senttopeka.com
SUMMARY:The Learning Loft
DESCRIPTION:Every Tuesday and Thursday from 10:00 am- 2:00 pm SENT and Fellowship Hi-Crest are providing space for families and students to use the internet in our building (Room 105 and 107). Do you need to login for a class\, upload homework\, research\, finish an application? Bring your laptop\, tablet\, or phone and connect to our FREE Wifi. Masks will be required\, and the rooms are equipped for social distancing.
URL:https://senttopeka.com/event/the-learning-loft-3/
LOCATION:Community Resource Council\, 455 SE Golf Park Blvd. (Office 121)\, Topeka\, KS\, 66605
END:VEVENT
BEGIN:VEVENT
DTSTART;TZID=UTC:20200926T110000
DTEND;TZID=UTC:20200926T130000
DTSTAMP:20260423T132841
CREATED:20200826T154225Z
LAST-MODIFIED:20200826T163815Z
UID:1305-1601118000-1601125200@senttopeka.com
SUMMARY:Teen Summit Know Your Rights
DESCRIPTION:SENT Topeka and The Empowerment Coalition presents Teen Summit Know Your Rights from 11:00am-1:00pm at CRC (Community Resource Council) 455 SE Golf Park Blvd\, Topeka\, KS. This event features Tonda Hill\, Trenton James\, and Chris Greene. For more information contact Daniel Martin at 785-409-8865 or the SENT office at 785-783-2535.
URL:https://senttopeka.com/event/teen-summit-know-your-rights/
END:VEVENT
BEGIN:VEVENT
DTSTART;TZID=UTC:20200924T100000
DTEND;TZID=UTC:20200924T140000
DTSTAMP:20260423T132841
CREATED:20200917T050600Z
LAST-MODIFIED:20200917T050600Z
UID:1332-1600941600-1600956000@senttopeka.com
SUMMARY:The Learning Loft
DESCRIPTION:Every Tuesday and Thursday from 10:00 am- 2:00 pm SENT and Fellowship Hi-Crest are providing space for families and students to use the internet in our building (Room 105 and 107). Do you need to login for a class\, upload homework\, research\, finish an application? Bring your laptop\, tablet\, or phone and connect to our FREE Wifi. Masks will be required\, and the rooms are equipped for social distancing.
URL:https://senttopeka.com/event/the-learning-loft-2/
LOCATION:Community Resource Council\, 455 SE Golf Park Blvd. (Office 121)\, Topeka\, KS\, 66605
END:VEVENT
BEGIN:VEVENT
DTSTART;TZID=UTC:20200922T100000
DTEND;TZID=UTC:20200922T140000
DTSTAMP:20260423T132841
CREATED:20200917T050508Z
LAST-MODIFIED:20200917T050508Z
UID:1328-1600768800-1600783200@senttopeka.com
SUMMARY:The Learning Loft
DESCRIPTION:Every Tuesday and Thursday from 10:00 am- 2:00 pm SENT and Fellowship Hi-Crest are providing space for families and students to use the internet in our building (Room 105 and 107). Do you need to login for a class\, upload homework\, research\, finish an application? Bring your laptop\, tablet\, or phone and connect to our FREE Wifi. Masks will be required\, and the rooms are equipped for social distancing.
URL:https://senttopeka.com/event/the-learning-loft/
LOCATION:Community Resource Council\, 455 SE Golf Park Blvd. (Office 121)\, Topeka\, KS\, 66605
END:VEVENT
BEGIN:VEVENT
DTSTART;TZID=UTC:20200912T110000
DTEND;TZID=UTC:20200912T130000
DTSTAMP:20260423T132841
CREATED:20200828T161136Z
LAST-MODIFIED:20200828T161136Z
UID:1322-1599908400-1599915600@senttopeka.com
SUMMARY:Back 2 School Giveaway
DESCRIPTION:Community for a Successful School Year presents Back 2 School Giveaway from 11:00am – 1:00pm (or while supplies last) on September 12 at 2801 SE Indiana. \n\nMasks are required.\nPlease bring a canned good to donate to the Topeka Rescue Mission.\nYou must have your scholar with you for pick-up.
URL:https://senttopeka.com/event/back-2-school-giveaway/
LOCATION:Mt. Zion Church\, 2801 SE Indiana\, Topeka\, KS\, 66605\, United States
END:VEVENT
BEGIN:VEVENT
DTSTART;TZID=UTC:20200912T090000
DTEND;TZID=UTC:20200912T110000
DTSTAMP:20260423T132841
CREATED:20200630T160703Z
LAST-MODIFIED:20200826T153858Z
UID:1194-1599901200-1599908400@senttopeka.com
SUMMARY:Hi-Crest Market
DESCRIPTION:Please join us from 9:00am-11:00am at 455 SE Golf Park Blvd. (on the playground). Produce bags will be available for $5 and $10 you can fill up the bag with your favorite produce! There will be additional vendors available with other merchandise that can be purchased separately.  Questions please call 785-783-2535 or email at info@senttopeka.com.
URL:https://senttopeka.com/event/hi-crest/
END:VEVENT
BEGIN:VEVENT
DTSTART;TZID=UTC:20200828T110000
DTEND;TZID=UTC:20200828T120000
DTSTAMP:20260423T132841
CREATED:20200717T162617Z
LAST-MODIFIED:20200717T162617Z
UID:1283-1598612400-1598616000@senttopeka.com
SUMMARY:Fuel Up Topeka Public Schools Meal Distribution
DESCRIPTION:Please join us for FREE breakfast and lunch! Open to all children and teens ages 1-18.  No registration or identification is required. Mondays and Wednesdays include breakfast and lunch for two days.  Fridays include breakfast and lunch for 3 days. Questions\, please call 785-783-2535 or email info@senttopeka.com
URL:https://senttopeka.com/event/fuel-up-topeka-public-schools-meal-distribution-25/
LOCATION:Community Resource Council\, 455 SE Golf Park Blvd. (Office 121)\, Topeka\, KS\, 66605
END:VEVENT
BEGIN:VEVENT
DTSTART;TZID=UTC:20200826T110000
DTEND;TZID=UTC:20200826T120000
DTSTAMP:20260423T132841
CREATED:20200717T162429Z
LAST-MODIFIED:20200717T162429Z
UID:1277-1598439600-1598443200@senttopeka.com
SUMMARY:Fuel Up Topeka Public Schools Meal Distribution
DESCRIPTION:Please join us for FREE breakfast and lunch! Open to all children and teens ages 1-18.  No registration or identification is required. Mondays and Wednesdays include breakfast and lunch for two days.  Fridays include breakfast and lunch for 3 days. Questions\, please call 785-783-2535 or email info@senttopeka.com
URL:https://senttopeka.com/event/fuel-up-topeka-public-schools-meal-distribution-24/
LOCATION:Community Resource Council\, 455 SE Golf Park Blvd. (Office 121)\, Topeka\, KS\, 66605
END:VEVENT
BEGIN:VEVENT
DTSTART;TZID=UTC:20200824T110000
DTEND;TZID=UTC:20200824T120000
DTSTAMP:20260423T132841
CREATED:20200717T162347Z
LAST-MODIFIED:20200717T162347Z
UID:1274-1598266800-1598270400@senttopeka.com
SUMMARY:Fuel Up Topeka Public Schools Meal Distribution
DESCRIPTION:Please join us for FREE breakfast and lunch! Open to all children and teens ages 1-18.  No registration or identification is required. Mondays and Wednesdays include breakfast and lunch for two days.  Fridays include breakfast and lunch for 3 days. Questions\, please call 785-783-2535 or email info@senttopeka.com
URL:https://senttopeka.com/event/fuel-up-topeka-public-schools-meal-distribution-23/
LOCATION:Community Resource Council\, 455 SE Golf Park Blvd. (Office 121)\, Topeka\, KS\, 66605
END:VEVENT
BEGIN:VEVENT
DTSTART;TZID=UTC:20200821T110000
DTEND;TZID=UTC:20200821T120000
DTSTAMP:20260423T132841
CREATED:20200717T162305Z
LAST-MODIFIED:20200717T162305Z
UID:1271-1598007600-1598011200@senttopeka.com
SUMMARY:Fuel Up Topeka Public Schools Meal Distribution
DESCRIPTION:Please join us for FREE breakfast and lunch! Open to all children and teens ages 1-18.  No registration or identification is required. Mondays and Wednesdays include breakfast and lunch for two days.  Fridays include breakfast and lunch for 3 days. Questions\, please call 785-783-2535 or email info@senttopeka.com
URL:https://senttopeka.com/event/fuel-up-topeka-public-schools-meal-distribution-22/
LOCATION:Community Resource Council\, 455 SE Golf Park Blvd. (Office 121)\, Topeka\, KS\, 66605
END:VEVENT
BEGIN:VEVENT
DTSTART;TZID=UTC:20200819T110000
DTEND;TZID=UTC:20200819T120000
DTSTAMP:20260423T132841
CREATED:20200717T162220Z
LAST-MODIFIED:20200717T162220Z
UID:1268-1597834800-1597838400@senttopeka.com
SUMMARY:Fuel Up Topeka Public Schools Meal Distribution
DESCRIPTION:Please join us for FREE breakfast and lunch! Open to all children and teens ages 1-18.  No registration or identification is required. Mondays and Wednesdays include breakfast and lunch for two days.  Fridays include breakfast and lunch for 3 days. Questions\, please call 785-783-2535 or email info@senttopeka.com
URL:https://senttopeka.com/event/fuel-up-topeka-public-schools-meal-distribution-21/
LOCATION:Community Resource Council\, 455 SE Golf Park Blvd. (Office 121)\, Topeka\, KS\, 66605
END:VEVENT
BEGIN:VEVENT
DTSTART;TZID=UTC:20200817T150000
DTEND;TZID=UTC:20200817T160000
DTSTAMP:20260423T132841
CREATED:20200731T151223Z
LAST-MODIFIED:20200731T151223Z
UID:1290-1597676400-1597680000@senttopeka.com
SUMMARY:FREE Mental Health Resource Opportunity
DESCRIPTION:At 3pm today SENT will have available Phelica Glass MSW\, LSCSW for adult group therapy sessions via Zoom.  If you know if anyone in the 66605 (Hi-Crest/California corridor area) zip code who has a need for this type of service\, please share with them the following link for access: \n https://us02web.zoom.us/j/84084087727?pwd=SzlTV1Jsay9pS012VXMxSFJrUks4dz09 \nSessions will in a group setting\, and will last for 45 minutes. The capacity limit is 20. There is no fee for this service.
URL:https://senttopeka.com/event/free-mental-health-resource-opportunity-2/
END:VEVENT
BEGIN:VEVENT
DTSTART;TZID=UTC:20200817T110000
DTEND;TZID=UTC:20200817T120000
DTSTAMP:20260423T132841
CREATED:20200717T162137Z
LAST-MODIFIED:20200717T162137Z
UID:1265-1597662000-1597665600@senttopeka.com
SUMMARY:Fuel Up Topeka Public Schools Meal Distribution
DESCRIPTION:Please join us for FREE breakfast and lunch! Open to all children and teens ages 1-18.  No registration or identification is required. Mondays and Wednesdays include breakfast and lunch for two days.  Fridays include breakfast and lunch for 3 days. Questions\, please call 785-783-2535 or email info@senttopeka.com
URL:https://senttopeka.com/event/fuel-up-topeka-public-schools-meal-distribution-20/
LOCATION:Community Resource Council\, 455 SE Golf Park Blvd. (Office 121)\, Topeka\, KS\, 66605
END:VEVENT
BEGIN:VEVENT
DTSTART;TZID=UTC:20200814T110000
DTEND;TZID=UTC:20200814T120000
DTSTAMP:20260423T132841
CREATED:20200717T162042Z
LAST-MODIFIED:20200717T162042Z
UID:1262-1597402800-1597406400@senttopeka.com
SUMMARY:Fuel Up Topeka Public Schools Meal Distribution
DESCRIPTION:Please join us for FREE breakfast and lunch! Open to all children and teens ages 1-18.  No registration or identification is required. Mondays and Wednesdays include breakfast and lunch for two days.  Fridays include breakfast and lunch for 3 days. Questions\, please call 785-783-2535 or email info@senttopeka.com
URL:https://senttopeka.com/event/fuel-up-topeka-public-schools-meal-distribution-19/
LOCATION:Community Resource Council\, 455 SE Golf Park Blvd. (Office 121)\, Topeka\, KS\, 66605
END:VEVENT
BEGIN:VEVENT
DTSTART;TZID=UTC:20200812T110000
DTEND;TZID=UTC:20200812T120000
DTSTAMP:20260423T132841
CREATED:20200717T161945Z
LAST-MODIFIED:20200717T161945Z
UID:1259-1597230000-1597233600@senttopeka.com
SUMMARY:Fuel Up Topeka Public Schools Meal Distribution
DESCRIPTION:Please join us for FREE breakfast and lunch! Open to all children and teens ages 1-18.  No registration or identification is required. Mondays and Wednesdays include breakfast and lunch for two days.  Fridays include breakfast and lunch for 3 days. Questions\, please call 785-783-2535 or email info@senttopeka.com
URL:https://senttopeka.com/event/fuel-up-topeka-public-schools-meal-distribution-18/
LOCATION:Community Resource Council\, 455 SE Golf Park Blvd. (Office 121)\, Topeka\, KS\, 66605
END:VEVENT
BEGIN:VEVENT
DTSTART;TZID=UTC:20200810T110000
DTEND;TZID=UTC:20200810T120000
DTSTAMP:20260423T132841
CREATED:20200717T161819Z
LAST-MODIFIED:20200717T161819Z
UID:1256-1597057200-1597060800@senttopeka.com
SUMMARY:Fuel Up Topeka Public Schools Meal Distribution
DESCRIPTION:Please join us for FREE breakfast and lunch! Open to all children and teens ages 1-18.  No registration or identification is required. Mondays and Wednesdays include breakfast and lunch for two days.  Fridays include breakfast and lunch for 3 days. Questions\, please call 785-783-2535 or email info@senttopeka.com
URL:https://senttopeka.com/event/fuel-up-topeka-public-schools-meal-distribution-17/
LOCATION:Community Resource Council\, 455 SE Golf Park Blvd. (Office 121)\, Topeka\, KS\, 66605
END:VEVENT
BEGIN:VEVENT
DTSTART;TZID=UTC:20200808T090000
DTEND;TZID=UTC:20200808T110000
DTSTAMP:20260423T132841
CREATED:20200630T160618Z
LAST-MODIFIED:20200714T163911Z
UID:1191-1596877200-1596884400@senttopeka.com
SUMMARY:Hi-Crest Market
DESCRIPTION:Please join us from 9:00am-11:00pm at 455 SE Golf Park Blvd. (on the playground). Produce bags will be available for $5 and $10 you can fill up the bag with your favorite produce! There will be additional vendors available with other merchandise that can be purchased separately.  Questions please call 785-783-2535 or email at info@senttopeka.com.
URL:https://senttopeka.com/event/hi-crest-market-3/
END:VEVENT
BEGIN:VEVENT
DTSTART;TZID=UTC:20200807T110000
DTEND;TZID=UTC:20200807T120000
DTSTAMP:20260423T132841
CREATED:20200717T161708Z
LAST-MODIFIED:20200717T161708Z
UID:1253-1596798000-1596801600@senttopeka.com
SUMMARY:Fuel Up Topeka Public Schools Meal Distribution
DESCRIPTION:Please join us for FREE breakfast and lunch! Open to all children and teens ages 1-18.  No registration or identification is required. Mondays and Wednesdays include breakfast and lunch for two days.  Fridays include breakfast and lunch for 3 days. Questions\, please call 785-783-2535 or email info@senttopeka.com
URL:https://senttopeka.com/event/fuel-up-topeka-public-schools-meal-distribution-16/
LOCATION:Community Resource Council\, 455 SE Golf Park Blvd. (Office 121)\, Topeka\, KS\, 66605
END:VEVENT
BEGIN:VEVENT
DTSTART;TZID=UTC:20200805T110000
DTEND;TZID=UTC:20200805T120000
DTSTAMP:20260423T132841
CREATED:20200717T161448Z
LAST-MODIFIED:20200717T161448Z
UID:1250-1596625200-1596628800@senttopeka.com
SUMMARY:Fuel Up Topeka Public Schools Meal Distribution
DESCRIPTION:Please join us for FREE breakfast and lunch! Open to all children and teens ages 1-18.  No registration or identification is required. Mondays and Wednesdays include breakfast and lunch for two days.  Fridays include breakfast and lunch for 3 days. Questions\, please call 785-783-2535 or email info@senttopeka.com
URL:https://senttopeka.com/event/fuel-up-topeka-public-schools-meal-distribution-15/
LOCATION:Community Resource Council\, 455 SE Golf Park Blvd. (Office 121)\, Topeka\, KS\, 66605
END:VEVENT
BEGIN:VEVENT
DTSTART;TZID=UTC:20200803T110000
DTEND;TZID=UTC:20200803T120000
DTSTAMP:20260423T132841
CREATED:20200717T161248Z
LAST-MODIFIED:20200717T161248Z
UID:1247-1596452400-1596456000@senttopeka.com
SUMMARY:Fuel Up Topeka Public Schools Meal Distribution
DESCRIPTION:Please join us for FREE breakfast and lunch! Open to all children and teens ages 1-18.  No registration or identification is required. Mondays and Wednesdays include breakfast and lunch for two days.  Fridays include breakfast and lunch for 3 days. Questions\, please call 785-783-2535 or email info@senttopeka.com
URL:https://senttopeka.com/event/fuel-up-topeka-public-schools-meal-distribution-14/
LOCATION:Community Resource Council\, 455 SE Golf Park Blvd. (Office 121)\, Topeka\, KS\, 66605
END:VEVENT
BEGIN:VEVENT
DTSTART;TZID=UTC:20200731T110000
DTEND;TZID=UTC:20200731T120000
DTSTAMP:20260423T132841
CREATED:20200701T025033Z
LAST-MODIFIED:20200701T025033Z
UID:1237-1596193200-1596196800@senttopeka.com
SUMMARY:Fuel Up Topeka Public Schools Meal Distribution
DESCRIPTION:Please join us for FREE breakfast and lunch! Open to all children and teens ages 1-18.  No registration or identification is required. Mondays and Wednesdays include breakfast and lunch for two days.  Fridays include breakfast and lunch for 3 days. Questions\, please call 785-783-2535 or email info@senttopeka.com
URL:https://senttopeka.com/event/fuel-up-topeka-public-schools-meal-distribution-13/
LOCATION:Community Resource Council\, 455 SE Golf Park Blvd. (Office 121)\, Topeka\, KS\, 66605
END:VEVENT
BEGIN:VEVENT
DTSTART;TZID=UTC:20200729T110000
DTEND;TZID=UTC:20200729T120000
DTSTAMP:20260423T132841
CREATED:20200701T024958Z
LAST-MODIFIED:20200701T024958Z
UID:1234-1596020400-1596024000@senttopeka.com
SUMMARY:Fuel Up Topeka Public Schools Meal Distribution
DESCRIPTION:Please join us for FREE breakfast and lunch! Open to all children and teens ages 1-18.  No registration or identification is required. Mondays and Wednesdays include breakfast and lunch for two days.  Fridays include breakfast and lunch for 3 days. Questions\, please call 785-783-2535 or email info@senttopeka.com
URL:https://senttopeka.com/event/fuel-up-topeka-public-schools-meal-distribution-12/
LOCATION:Community Resource Council\, 455 SE Golf Park Blvd. (Office 121)\, Topeka\, KS\, 66605
END:VEVENT
BEGIN:VEVENT
DTSTART;TZID=UTC:20200727T150000
DTEND;TZID=UTC:20200727T160000
DTSTAMP:20260423T132841
CREATED:20200714T164140Z
LAST-MODIFIED:20200714T164229Z
UID:1242-1595862000-1595865600@senttopeka.com
SUMMARY:FREE Mental Health Resource Opportunity
DESCRIPTION:At 3pm today SENT will have available Phelica Glass MSW\, LSCSW for adult group therapy sessions via Zoom.  If you know if anyone in the 66605 (Hi-Crest/California corridor area) zip code who has a need for this type of service\, please share with them the following link for access: \n https://us02web.zoom.us/j/84084087727?pwd=SzlTV1Jsay9pS012VXMxSFJrUks4dz09 \nSessions will in a group setting\, and will last for 45 minutes. The capacity limit is 20. There is no fee for this service.
URL:https://senttopeka.com/event/free-mental-health-resource-opportunity/
END:VEVENT
BEGIN:VEVENT
DTSTART;TZID=UTC:20200727T110000
DTEND;TZID=UTC:20200727T120000
DTSTAMP:20260423T132841
CREATED:20200701T024916Z
LAST-MODIFIED:20200701T024916Z
UID:1231-1595847600-1595851200@senttopeka.com
SUMMARY:Fuel Up Topeka Public Schools Meal Distribution
DESCRIPTION:Please join us for FREE breakfast and lunch! Open to all children and teens ages 1-18.  No registration or identification is required. Mondays and Wednesdays include breakfast and lunch for two days.  Fridays include breakfast and lunch for 3 days. Questions\, please call 785-783-2535 or email info@senttopeka.com
URL:https://senttopeka.com/event/fuel-up-topeka-public-schools-meal-distribution-11/
LOCATION:Community Resource Council\, 455 SE Golf Park Blvd. (Office 121)\, Topeka\, KS\, 66605
END:VEVENT
BEGIN:VEVENT
DTSTART;TZID=UTC:20200724T110000
DTEND;TZID=UTC:20200724T120000
DTSTAMP:20260423T132841
CREATED:20200701T024812Z
LAST-MODIFIED:20200701T024812Z
UID:1228-1595588400-1595592000@senttopeka.com
SUMMARY:Fuel Up Topeka Public Schools Meal Distribution
DESCRIPTION:Please join us for FREE breakfast and lunch! Open to all children and teens ages 1-18.  No registration or identification is required. Mondays and Wednesdays include breakfast and lunch for two days.  Fridays include breakfast and lunch for 3 days. Questions\, please call 785-783-2535 or email info@senttopeka.com
URL:https://senttopeka.com/event/fuel-up-topeka-public-schools-meal-distribution-10/
LOCATION:Community Resource Council\, 455 SE Golf Park Blvd. (Office 121)\, Topeka\, KS\, 66605
END:VEVENT
BEGIN:VEVENT
DTSTART;TZID=UTC:20200722T110000
DTEND;TZID=UTC:20200722T120000
DTSTAMP:20260423T132841
CREATED:20200701T024727Z
LAST-MODIFIED:20200701T024727Z
UID:1225-1595415600-1595419200@senttopeka.com
SUMMARY:Fuel Up Topeka Public Schools Meal Distribution
DESCRIPTION:Please join us for FREE breakfast and lunch! Open to all children and teens ages 1-18.  No registration or identification is required. Mondays and Wednesdays include breakfast and lunch for two days.  Fridays include breakfast and lunch for 3 days. Questions\, please call 785-783-2535 or email info@senttopeka.com
URL:https://senttopeka.com/event/fuel-up-topeka-public-schools-meal-distribution-9/
LOCATION:Community Resource Council\, 455 SE Golf Park Blvd. (Office 121)\, Topeka\, KS\, 66605
END:VEVENT
BEGIN:VEVENT
DTSTART;TZID=UTC:20200720T110000
DTEND;TZID=UTC:20200720T120000
DTSTAMP:20260423T132841
CREATED:20200701T024646Z
LAST-MODIFIED:20200701T024646Z
UID:1222-1595242800-1595246400@senttopeka.com
SUMMARY:Fuel Up Topeka Public Schools Meal Distribution
DESCRIPTION:Please join us for FREE breakfast and lunch! Open to all children and teens ages 1-18.  No registration or identification is required. Mondays and Wednesdays include breakfast and lunch for two days.  Fridays include breakfast and lunch for 3 days. Questions\, please call 785-783-2535 or email info@senttopeka.com
URL:https://senttopeka.com/event/fuel-up-topeka-public-schools-meal-distribution-8/
LOCATION:Community Resource Council\, 455 SE Golf Park Blvd. (Office 121)\, Topeka\, KS\, 66605
END:VEVENT
END:VCALENDAR